BEGIN:VCALENDAR
VERSION:2.0
PRODID:-//SAME Space Coast Post - ECPv6.6.4.2//NONSGML v1.0//EN
CALSCALE:GREGORIAN
METHOD:PUBLISH
X-ORIGINAL-URL:https://samespacecoast.org
X-WR-CALDESC:Events for SAME Space Coast Post
REFRESH-INTERVAL;VALUE=DURATION:PT1H
X-Robots-Tag:noindex
X-PUBLISHED-TTL:PT1H
BEGIN:VTIMEZONE
TZID:America/New_York
BEGIN:DAYLIGHT
TZOFFSETFROM:-0500
TZOFFSETTO:-0400
TZNAME:EDT
DTSTART:20250309T070000
END:DAYLIGHT
BEGIN:STANDARD
TZOFFSETFROM:-0400
TZOFFSETTO:-0500
TZNAME:EST
DTSTART:20251102T060000
END:STANDARD
END:VTIMEZONE
BEGIN:VEVENT
DTSTART;TZID=America/New_York:20250220T083000
DTEND;TZID=America/New_York:20250220T153000
DTSTAMP:20260423T074712
CREATED:20241217T151250Z
LAST-MODIFIED:20250216T120145Z
UID:3839-1740040200-1740065400@samespacecoast.org
SUMMARY:SAME Space Coast Post 2025 Small Business Industry Day & Federal Contracting Workshop
DESCRIPTION:2025 Small Business Industry Day & Federal Contracting Workshop\nRegistration is Closed.\nDate: Thursday\, February 20\, 2025\nTime: 8:30 AM – 3:30 PM\nWhere:\nHilton Garden Inn Cocoa Beach Oceanfront\n2080 North Atlantic Avenue\nCocoa Beach\, FL 32931\n(321) 783-9222 \nREGISTRATION IS NOW CLOSED \nPlease join us for our 2025 SAME Space Coast Post Small Business Industry Day & Federal Contracting Workshop at the Hilton Garden Inn Cocoa Beach Oceanfront. All attendees are invited to attend and enjoy the networking social sponsored by Petroleum Resources & Development (PR&D) immediately following Industry Day. \n \nConfirmed agencies include: SLD 45 Small Business Office\, 45 CES\, 45 CONS\, USACE Mobile\, USACE Jacksonville\, NAVFAC SE\, NAVFAC Cape Canaveral ROICC\, NASA/KSC\, National Guard Bureau – USPFO/FL-P&C\, Canaveral Port Authority\, and USWCC. \nLimited number of Vendor Tables are available – please contact Michelle Shoultz directly at mshoultz@fraziereng.com for more information. Vendor table cost for SAME member firms is $200 and non-members is $350 until all tables are sold out. \nIndividual Registration includes \n\nSAME Member – $50\nNon-Member – $100\nActive Military/Government Personnel Donation – $20\n\nPlease Note: \n\nRegistration is required\, and payment is due at time of registration.\nPayment is non-refundable.\nFor more information\, please contact: Michelle Shoultz at mshoultz@fraziereng.com.
URL:https://samespacecoast.org/event/same-space-coast-post-2025-small-business-industry-day-federal-contracting-workshop/
LOCATION:Hilton Garden Inn Cocoa Beach Oceanfront\, 2080 North Atlantic Avenue\, Cocoa Beach\, FL\, 32931\, United States
END:VEVENT
END:VCALENDAR