BEGIN:VCALENDAR
VERSION:2.0
PRODID:-//SAME Space Coast Post - ECPv6.6.4.2//NONSGML v1.0//EN
CALSCALE:GREGORIAN
METHOD:PUBLISH
X-ORIGINAL-URL:https://samespacecoast.org
X-WR-CALDESC:Events for SAME Space Coast Post
REFRESH-INTERVAL;VALUE=DURATION:PT1H
X-Robots-Tag:noindex
X-PUBLISHED-TTL:PT1H
BEGIN:VTIMEZONE
TZID:America/New_York
BEGIN:DAYLIGHT
TZOFFSETFROM:-0500
TZOFFSETTO:-0400
TZNAME:EDT
DTSTART:20250309T070000
END:DAYLIGHT
BEGIN:STANDARD
TZOFFSETFROM:-0400
TZOFFSETTO:-0500
TZNAME:EST
DTSTART:20251102T060000
END:STANDARD
END:VTIMEZONE
BEGIN:VEVENT
DTSTART;TZID=America/New_York:20250821T113000
DTEND;TZID=America/New_York:20250821T130000
DTSTAMP:20260420T062511
CREATED:20250224T205038Z
LAST-MODIFIED:20250806T164703Z
UID:3906-1755775800-1755781200@samespacecoast.org
SUMMARY:SAME Space Coast Post August 2025 Meeting
DESCRIPTION:SPACE COAST POST MEETING MONTHLY SCHEDULE\nPresident: John Jones \nSAME Space Coast Post August 2025 Meeting \nCome Join Us for our Monthly Meetings on the third Thursday of every month. \nMeetings are held every third Thursday of the month at the\nCourtyard by Marriott – Cocoa Beach.\n11:30 AM Meet-n-Greet/Lunch\n12:00-1:00 PM – August 2025 Monthly Program \nAugust Meeting: 21 August 2025\nIndustry Attendee – $20.00\nDoD/Military Attendee – No Charge\, $10.00 Donation Welcome \nAugust 2025 Monthly Meeting Presentation\nPanel/Workshop: Industry and Government Engagement: Transitions\nPanel Moderator: Lauri Ruch\, COO\, PRiME Associates\, LtCol (USAF Ret)\nPanel Members:\nDave Luke\, PE\, Merrick & Company (Former USAF Captain)\nBlair Schantz\, CEO PRiME Associates\, COL (US Army Ret) \nPanel discussion will provide information to enable informed decisions and smooth transitioning. Please click here for additional information. \nUse PayPal to make your reservation and pay on-line. \n\n \n\n\n\nAttendee Options\n\n\nIndustry $20.00 USDDoD/Military $10.00 USD
URL:https://samespacecoast.org/event/same-space-coast-post-august-2025-meeting/
LOCATION:Courtyard by Marriott\, 3435 N Atlantic Ave\, Cocoa Beach\, FL\, 32931\, United States
CATEGORIES:SAME Space Coast Monthly Meeting
END:VEVENT
END:VCALENDAR